BEGIN:VCALENDAR
VERSION:2.0
PRODID:-//Golf Resort Barbora - ECPv6.5.1.3//NONSGML v1.0//EN
CALSCALE:GREGORIAN
METHOD:PUBLISH
X-WR-CALNAME:Golf Resort Barbora
X-ORIGINAL-URL:https://golfbarbora.cz/
X-WR-CALDESC:Akce na Golf Resort Barbora
REFRESH-INTERVAL;VALUE=DURATION:PT1H
X-Robots-Tag:noindex
X-PUBLISHED-TTL:PT1H
BEGIN:VTIMEZONE
TZID:UTC
BEGIN:STANDARD
TZOFFSETFROM:+0000
TZOFFSETTO:+0000
TZNAME:UTC
DTSTART:20240101T000000
END:STANDARD
END:VTIMEZONE
BEGIN:VEVENT
DTSTART;TZID=UTC:20250822T120000
DTEND;TZID=UTC:20250822T170000
DTSTAMP:20260420T011103
CREATED:20250808T070941Z
LAST-MODIFIED:20250808T070941Z
UID:10082-1755864000-1755882000@golfbarbora.cz
SUMMARY:SVATBA - omezený provoz restaurace\, uzavřené terasy\, hřiště otevřené bez omezení
DESCRIPTION:22.8.2025 | SVATBA – omezený provoz restaurace\, uzavřené terasy\, hřiště otevřené bez omezení
URL:https://golfbarbora.cz/akce/svatba-omezeny-provoz-restaurace-uzavrene-terasy-hriste-otevrene-bez-omezeni-8/
LOCATION:Golf Resort Barbora
CATEGORIES:Svatba
END:VEVENT
BEGIN:VEVENT
DTSTART;TZID=UTC:20250816T120000
DTEND;TZID=UTC:20250816T170000
DTSTAMP:20260420T011103
CREATED:20250212T094932Z
LAST-MODIFIED:20250212T094932Z
UID:9715-1755345600-1755363600@golfbarbora.cz
SUMMARY:SVATBA - omezený provoz restaurace\, uzavřené terasy\, hřiště otevřené bez omezení
DESCRIPTION:16.8.2025 | SVATBA – omezený provoz restaurace\, uzavřené terasy\, hřiště otevřené bez omezení
URL:https://golfbarbora.cz/akce/svatba-omezeny-provoz-restaurace-uzavrene-terasy-hriste-otevrene-bez-omezeni-5/
LOCATION:Golf Resort Barbora
CATEGORIES:Svatba
END:VEVENT
BEGIN:VEVENT
DTSTART;TZID=UTC:20250807T000000
DTEND;TZID=UTC:20250807T233000
DTSTAMP:20260420T011103
CREATED:20250721T070045Z
LAST-MODIFIED:20250721T070325Z
UID:10068-1754524800-1754609400@golfbarbora.cz
SUMMARY:Skarifikace fervejí - HŘIŠTĚ JE ZAVŘENÉ !!! Driving range\, cvičné plochy a restaurace OTEVŘENÉ !
DESCRIPTION:4.8. – 7.8.2025 |Skarifikace fervejí – HŘIŠTĚ JE ZAVŘENÉ !!! Driving range\, cvičné plochy a restaurace OTEVŘENÉ !
URL:https://golfbarbora.cz/akce/skarifikace-ferveji-hriste-je-zavrene-driving-range-cvicne-plochy-a-restaurace-otevrene-4/
LOCATION:Golf Resort Barbora
CATEGORIES:Svatba
END:VEVENT
BEGIN:VEVENT
DTSTART;TZID=UTC:20250806T000000
DTEND;TZID=UTC:20250806T233000
DTSTAMP:20260420T011103
CREATED:20250721T070001Z
LAST-MODIFIED:20250721T070217Z
UID:10066-1754438400-1754523000@golfbarbora.cz
SUMMARY:Skarifikace fervejí - HŘIŠTĚ JE ZAVŘENÉ !!! Driving range\, cvičné plochy a restaurace OTEVŘENÉ !
DESCRIPTION:4.8. – 7.8.2025 |Skarifikace fervejí – HŘIŠTĚ JE ZAVŘENÉ !!! Driving range\, cvičné plochy a restaurace OTEVŘENÉ !
URL:https://golfbarbora.cz/akce/skarifikace-ferveji-hriste-je-zavrene-driving-range-cvicne-plochy-a-restaurace-otevrene-3/
LOCATION:Golf Resort Barbora
CATEGORIES:Svatba
END:VEVENT
BEGIN:VEVENT
DTSTART;TZID=UTC:20250805T000000
DTEND;TZID=UTC:20250805T233000
DTSTAMP:20260420T011103
CREATED:20250721T065920Z
LAST-MODIFIED:20250721T070400Z
UID:10064-1754352000-1754436600@golfbarbora.cz
SUMMARY:Skarifikace fervejí - HŘIŠTĚ JE ZAVŘENÉ !!! Driving range\, cvičné plochy a restaurace OTEVŘENÉ !
DESCRIPTION:4.8. – 7.8.2025 |Skarifikace fervejí – HŘIŠTĚ JE ZAVŘENÉ !!! Driving range\, cvičné plochy a restaurace OTEVŘENÉ !
URL:https://golfbarbora.cz/akce/skarifikace-ferveji-hriste-je-zavrene-driving-range-cvicne-plochy-a-restaurace-otevrene-2/
LOCATION:Golf Resort Barbora
CATEGORIES:Svatba
END:VEVENT
BEGIN:VEVENT
DTSTART;TZID=UTC:20250804T000000
DTEND;TZID=UTC:20250804T233000
DTSTAMP:20260420T011103
CREATED:20250721T065806Z
LAST-MODIFIED:20250721T070249Z
UID:10062-1754265600-1754350200@golfbarbora.cz
SUMMARY:Skarifikace fervejí - HŘIŠTĚ JE ZAVŘENÉ !!! Driving range\, cvičné plochy a restaurace OTEVŘENÉ !
DESCRIPTION:4.8. – 7.8.2025 |Skarifikace fervejí – HŘIŠTĚ JE ZAVŘENÉ !!! Driving range\, cvičné plochy a restaurace OTEVŘENÉ !
URL:https://golfbarbora.cz/akce/skarifikace-ferveji-hriste-je-zavrene-driving-range-cvicne-plochy-a-restaurace-otevrene/
LOCATION:Golf Resort Barbora
CATEGORIES:Svatba
END:VEVENT
BEGIN:VEVENT
DTSTART;TZID=UTC:20250720T120000
DTEND;TZID=UTC:20250720T170000
DTSTAMP:20260420T011103
CREATED:20250212T094846Z
LAST-MODIFIED:20250212T094846Z
UID:9713-1753012800-1753030800@golfbarbora.cz
SUMMARY:SVATBA - omezený provoz restaurace\, uzavřené terasy\, hřiště otevřené bez omezení
DESCRIPTION:20.7.2025 | SVATBA – omezený provoz restaurace\, uzavřené terasy\, hřiště otevřené bez omezení
URL:https://golfbarbora.cz/akce/svatba-omezeny-provoz-restaurace-uzavrene-terasy-hriste-otevrene-bez-omezeni/
LOCATION:Golf Resort Barbora
CATEGORIES:Svatba
END:VEVENT
BEGIN:VEVENT
DTSTART;TZID=UTC:20250531T120000
DTEND;TZID=UTC:20250531T170000
DTSTAMP:20260420T011103
CREATED:20240615T140004Z
LAST-MODIFIED:20250212T091534Z
UID:7490-1748692800-1748710800@golfbarbora.cz
SUMMARY:SVATBA - omezený provoz restaurace\, uzavřené terasy\, hřiště otevřené bez omezení
DESCRIPTION:31.5.2025 | SVATBA – omezený provoz restaurace\, uzavřené terasy\, hřiště otevřené bez omezení
URL:https://golfbarbora.cz/akce/svatba-omezeny-provoz-restaurace-uzavrene-terasy-hriste-otevrene-bez-omezeni-2/
LOCATION:Golf Resort Barbora
CATEGORIES:Svatba
END:VEVENT
BEGIN:VEVENT
DTSTART;VALUE=DATE:20240906
DTEND;VALUE=DATE:20240907
DTSTAMP:20260420T011103
CREATED:20240615T135157Z
LAST-MODIFIED:20240615T150425Z
UID:7477-1725580800-1725667199@golfbarbora.cz
SUMMARY:Komerční akce - uzavřený celý areál po celý den včetně restaurace\, drivingu a cvičných ploch
DESCRIPTION:6. 9. 2024 | Komerční akce – uzavřený celý areál po celý den včetně restaurace\, drivingu a cvičných ploch
URL:https://golfbarbora.cz/akce/komercni-akce-uzavreny-cely-areal-po-cely-den-vcetne-restaurace-drivingu-a-cvicnych-ploch-5/
LOCATION:Golf Resort Barbora
CATEGORIES:Komerční akce
END:VEVENT
BEGIN:VEVENT
DTSTART;VALUE=DATE:20240903
DTEND;VALUE=DATE:20240904
DTSTAMP:20260420T011103
CREATED:20240615T135246Z
LAST-MODIFIED:20240615T150454Z
UID:7479-1725321600-1725407999@golfbarbora.cz
SUMMARY:Komerční akce - uzavřený celý areál po celý den včetně restaurace\, drivingu a cvičných ploch
DESCRIPTION:3. 9. 2024 | Komerční akce – uzavřený celý areál po celý den včetně restaurace\, drivingu a cvičných ploch
URL:https://golfbarbora.cz/akce/komercni-akce-uzavreny-cely-areal-po-cely-den-vcetne-restaurace-drivingu-a-cvicnych-ploch-6/
LOCATION:Golf Resort Barbora
CATEGORIES:Komerční akce
END:VEVENT
BEGIN:VEVENT
DTSTART;TZID=UTC:20240719T080000
DTEND;TZID=UTC:20240719T170000
DTSTAMP:20260420T011103
CREATED:20240615T140320Z
LAST-MODIFIED:20240615T150948Z
UID:7496-1721376000-1721408400@golfbarbora.cz
SUMMARY:SVATBA - omezený provoz restaurace\, uzavřené terasy\, hřiště otevřené bez omezení
DESCRIPTION:19. 7. 2024 | SVATBA – omezený provoz restaurace\, uzavřené terasy\, hřiště otevřené bez omezení
URL:https://golfbarbora.cz/akce/svatba-omezeny-provoz-restaurace-uzavrene-terasy-hriste-otevrene-bez-omezeni-3/
LOCATION:Golf Resort Barbora
CATEGORIES:Svatba
END:VEVENT
BEGIN:VEVENT
DTSTART;TZID=UTC:20240713T100000
DTEND;TZID=UTC:20240713T170000
DTSTAMP:20260420T011103
CREATED:20240615T140546Z
LAST-MODIFIED:20240615T151120Z
UID:7503-1720864800-1720890000@golfbarbora.cz
SUMMARY:SVATBA - omezený provoz restaurace\, uzavřené terasy\, hřiště otevřené bez omezení
DESCRIPTION:13. 7. 2024 | SVATBA – omezený provoz restaurace\, uzavřené terasy\, hřiště otevřené bez omezení
URL:https://golfbarbora.cz/akce/svatba-omezeny-provoz-restaurace-uzavrene-terasy-hriste-otevrene-bez-omezeni-4/
CATEGORIES:Svatba
END:VEVENT
BEGIN:VEVENT
DTSTART;TZID=UTC:20240622T080000
DTEND;TZID=UTC:20240622T120000
DTSTAMP:20260420T011103
CREATED:20240615T144743Z
LAST-MODIFIED:20240615T151518Z
UID:7548-1719043200-1719057600@golfbarbora.cz
SUMMARY:Tee time jen do 12 hodin\, od 12 je celý areál uzavřený z důvodu konání soukromé akce.
DESCRIPTION:22. 6. 2024 | Tee time jen do 12 hodin\, od 12 je celý areál uzavřený z důvodu konání soukromé akce.
URL:https://golfbarbora.cz/akce/tee-time-jen-do-12-hodin-od-12-je-cely-areal-uzavreny-z-duvodu-konani-soukrome-akce/
LOCATION:Golf Resort Barbora
END:VEVENT
END:VCALENDAR