BEGIN:VCALENDAR
VERSION:2.0
PRODID:-//Golf Resort Barbora - ECPv6.5.1.3//NONSGML v1.0//EN
CALSCALE:GREGORIAN
METHOD:PUBLISH
X-ORIGINAL-URL:https://golfbarbora.cz/
X-WR-CALDESC:Akce na Golf Resort Barbora
REFRESH-INTERVAL;VALUE=DURATION:PT1H
X-Robots-Tag:noindex
X-PUBLISHED-TTL:PT1H
BEGIN:VTIMEZONE
TZID:UTC
BEGIN:STANDARD
TZOFFSETFROM:+0000
TZOFFSETTO:+0000
TZNAME:UTC
DTSTART:20260101T000000
END:STANDARD
END:VTIMEZONE
BEGIN:VEVENT
DTSTART;VALUE=DATE:20260403
DTEND;VALUE=DATE:20260404
DTSTAMP:20260419T215443
CREATED:20251110T104952Z
LAST-MODIFIED:20260327T084908Z
UID:10229-1775174400-1775260799@golfbarbora.cz
SUMMARY:Otevření celého areálu 3. duben od 8 hodin. Das gesamte Gelände ist ab dem 3. April ab 8 Uhr geöffnet
DESCRIPTION:3.4.2026 | Otevíráme celý areál včetně restaurace. Wir öffnen das gesamte Gelände einschließlich des Restaurants.
URL:https://golfbarbora.cz/akce/cely-areal-je-uzavreny-tesime-se-na-vas-na-jare-2026-das-gesamte-gebiet-ist-gesperrt-wir-freuen-uns-darauf-sie-im-fruhjahr-2026-wiederzusehen/
LOCATION:Golf Resort Barbora
END:VEVENT
BEGIN:VEVENT
DTSTART;VALUE=DATE:20260530
DTEND;VALUE=DATE:20260531
DTSTAMP:20260419T215443
CREATED:20260206T112300Z
LAST-MODIFIED:20260206T112300Z
UID:10254-1780099200-1780185599@golfbarbora.cz
SUMMARY:Komerční akce - uzavřený celý areál po celý den včetně restaurace\, drivingu a cvičných ploch
DESCRIPTION:30.5.2026 | Komerční akce – uzavřený celý areál po celý den včetně restaurace\, drivingu a cvičných ploch
URL:https://golfbarbora.cz/akce/komercni-akce-uzavreny-cely-areal-po-cely-den-vcetne-restaurace-drivingu-a-cvicnych-ploch-8/
LOCATION:Golf Resort Barbora
CATEGORIES:Komerční akce
END:VEVENT
BEGIN:VEVENT
DTSTART;TZID=UTC:20260620T120000
DTEND;TZID=UTC:20260620T233000
DTSTAMP:20260419T215443
CREATED:20260305T094547Z
LAST-MODIFIED:20260305T094547Z
UID:10269-1781956800-1781998200@golfbarbora.cz
SUMMARY:SVATBA - omezený provoz restaurace\, uzavřené terasy\, hřiště otevřené bez omezení
DESCRIPTION:20.6.2026 | SVATBA – omezený provoz restaurace\, uzavřené terasy\, hřiště otevřené bez omezení
URL:https://golfbarbora.cz/akce/svatba-omezeny-provoz-restaurace-uzavrene-terasy-hriste-otevrene-bez-omezeni-9/
LOCATION:Golf Resort Barbora
CATEGORIES:Svatba
END:VEVENT
END:VCALENDAR