BEGIN:VCALENDAR
VERSION:2.0
PRODID:-//Golf Resort Barbora - ECPv6.5.1.3//NONSGML v1.0//EN
CALSCALE:GREGORIAN
METHOD:PUBLISH
X-WR-CALNAME:Golf Resort Barbora
X-ORIGINAL-URL:https://golfbarbora.cz/
X-WR-CALDESC:Akce na Golf Resort Barbora
REFRESH-INTERVAL;VALUE=DURATION:PT1H
X-Robots-Tag:noindex
X-PUBLISHED-TTL:PT1H
BEGIN:VTIMEZONE
TZID:UTC
BEGIN:STANDARD
TZOFFSETFROM:+0000
TZOFFSETTO:+0000
TZNAME:UTC
DTSTART:20250101T000000
END:STANDARD
END:VTIMEZONE
BEGIN:VEVENT
DTSTART;VALUE=DATE:20251117
DTEND;VALUE=DATE:20251118
DTSTAMP:20260420T041532
CREATED:20251110T104829Z
LAST-MODIFIED:20251110T104829Z
UID:10227-1763337600-1763423999@golfbarbora.cz
SUMMARY:Poslední hrací den sezóny 2025
DESCRIPTION:17.11. 2025 | Poslední hrací den sezóny 2025
URL:https://golfbarbora.cz/akce/posledni-hraci-den-sezony-2025/
LOCATION:Golf Resort Barbora
END:VEVENT
END:VCALENDAR