BEGIN:VCALENDAR
VERSION:2.0
PRODID:-//Golf Resort Barbora - ECPv6.5.1.3//NONSGML v1.0//EN
CALSCALE:GREGORIAN
METHOD:PUBLISH
X-WR-CALNAME:Golf Resort Barbora
X-ORIGINAL-URL:https://golfbarbora.cz/
X-WR-CALDESC:Akce na Golf Resort Barbora
REFRESH-INTERVAL;VALUE=DURATION:PT1H
X-Robots-Tag:noindex
X-PUBLISHED-TTL:PT1H
BEGIN:VTIMEZONE
TZID:UTC
BEGIN:STANDARD
TZOFFSETFROM:+0000
TZOFFSETTO:+0000
TZNAME:UTC
DTSTART:20260101T000000
END:STANDARD
END:VTIMEZONE
BEGIN:VEVENT
DTSTART;TZID=UTC:20260426T100000
DTEND;TZID=UTC:20260426T170000
DTSTAMP:20260419T124809
CREATED:20260305T093841Z
LAST-MODIFIED:20260305T093841Z
UID:10259-1777197600-1777222800@golfbarbora.cz
SUMMARY:Nandávání koleček - zahajovací texas scramble dvojic 
DESCRIPTION:26.44.2026|Nandávání koleček – zahajovací texas scramble dvojic
URL:https://golfbarbora.cz/akce/nandavani-kolecek-zahajovaci-texas-scramble-dvojic/
LOCATION:Golf Resort Barbora
CATEGORIES:Generační a podzimní texas dvojic,Texas scramble dvojic
END:VEVENT
END:VCALENDAR