BEGIN:VCALENDAR
VERSION:2.0
PRODID:-//Golf Resort Barbora - ECPv6.5.1.3//NONSGML v1.0//EN
CALSCALE:GREGORIAN
METHOD:PUBLISH
X-ORIGINAL-URL:https://golfbarbora.cz/
X-WR-CALDESC:Akce na Golf Resort Barbora
REFRESH-INTERVAL;VALUE=DURATION:PT1H
X-Robots-Tag:noindex
X-PUBLISHED-TTL:PT1H
BEGIN:VTIMEZONE
TZID:UTC
BEGIN:STANDARD
TZOFFSETFROM:+0000
TZOFFSETTO:+0000
TZNAME:UTC
DTSTART:20250101T000000
END:STANDARD
END:VTIMEZONE
BEGIN:VEVENT
DTSTART;TZID=UTC:20251007T100000
DTEND;TZID=UTC:20251007T173000
DTSTAMP:20260420T015455
CREATED:20250303T121434Z
LAST-MODIFIED:20250930T065525Z
UID:9748-1759831200-1759858200@golfbarbora.cz
SUMMARY:Podkrušnohorská senior tour - Závěrečný turnaj
DESCRIPTION:7.10.2025| Podkrušnohorská senior tour – Závěrečný turnaj
URL:https://golfbarbora.cz/akce/podkrusnohorska-senior-golf-tour-cannon-start-v-10-hodin/
CATEGORIES:Podkrušnohorská senior tour
END:VEVENT
BEGIN:VEVENT
DTSTART;TZID=UTC:20260528T100000
DTEND;TZID=UTC:20260528T120000
DTSTAMP:20260420T015455
CREATED:20260206T112123Z
LAST-MODIFIED:20260206T112123Z
UID:10252-1779962400-1779969600@golfbarbora.cz
SUMMARY:Podkrušnohorská senior golf tour 2026
DESCRIPTION:28.05.2026| Podkrušnohorská senior tour 2026
URL:https://golfbarbora.cz/akce/podkrusnohorska-senior-golf-tour-2026/
CATEGORIES:Podkrušnohorská senior tour
END:VEVENT
END:VCALENDAR