BEGIN:VCALENDAR
VERSION:2.0
PRODID:-//Golf Resort Barbora - ECPv6.5.1.3//NONSGML v1.0//EN
CALSCALE:GREGORIAN
METHOD:PUBLISH
X-WR-CALNAME:Golf Resort Barbora
X-ORIGINAL-URL:https://golfbarbora.cz/
X-WR-CALDESC:Akce na Golf Resort Barbora
REFRESH-INTERVAL;VALUE=DURATION:PT1H
X-Robots-Tag:noindex
X-PUBLISHED-TTL:PT1H
BEGIN:VTIMEZONE
TZID:UTC
BEGIN:STANDARD
TZOFFSETFROM:+0000
TZOFFSETTO:+0000
TZNAME:UTC
DTSTART:20240101T000000
END:STANDARD
TZID:Europe/Prague
BEGIN:DAYLIGHT
TZOFFSETFROM:+0100
TZOFFSETTO:+0200
TZNAME:CEST
DTSTART:20240331T010000
END:DAYLIGHT
BEGIN:STANDARD
TZOFFSETFROM:+0200
TZOFFSETTO:+0100
TZNAME:CET
DTSTART:20241027T010000
END:STANDARD
END:VTIMEZONE
BEGIN:VEVENT
DTSTART;VALUE=DATE:20250912
DTEND;VALUE=DATE:20250913
DTSTAMP:20260420T033918
CREATED:20250820T111112Z
LAST-MODIFIED:20250826T135827Z
UID:10108-1757635200-1757721599@golfbarbora.cz
SUMMARY:Komerční akce - uzavřený celý areál po celý den včetně restaurace\, drivingu a cvičných ploch
DESCRIPTION:12.9. 2025 | Komerční akce – uzavřený celý areál po celý den včetně restaurace\, drivingu a cvičných ploch
URL:https://golfbarbora.cz/akce/komercni-akce-uzavreny-cely-areal-po-cely-den-vcetne-restaurace-drivingu-a-cvicnych-ploch-4/
LOCATION:Golf Resort Barbora
CATEGORIES:Komerční akce
END:VEVENT
BEGIN:VEVENT
DTSTART;VALUE=DATE:20250911
DTEND;VALUE=DATE:20250912
DTSTAMP:20260420T033918
CREATED:20250820T111145Z
LAST-MODIFIED:20250826T135754Z
UID:10110-1757548800-1757635199@golfbarbora.cz
SUMMARY:Komerční akce - uzavřený celý areál po celý den včetně restaurace\, drivingu a cvičných ploch
DESCRIPTION:11.9. 2025 | Komerční akce – uzavřený celý areál po celý den včetně restaurace\, drivingu a cvičných ploch
URL:https://golfbarbora.cz/akce/komercni-akce-uzavreny-cely-areal-po-cely-den-vcetne-restaurace-drivingu-a-cvicnych-ploch-7/
LOCATION:Golf Resort Barbora
CATEGORIES:Komerční akce
END:VEVENT
BEGIN:VEVENT
DTSTART;TZID=UTC:20250904T000000
DTEND;TZID=UTC:20250904T163000
DTSTAMP:20260420T033918
CREATED:20250808T071232Z
LAST-MODIFIED:20250828T090204Z
UID:10084-1756944000-1757003400@golfbarbora.cz
SUMMARY:Komerční akce - uzavřený celý areál po celý den včetně restaurace\, drivingu a cvičných ploch
DESCRIPTION:4. 9. 2025 | Komerční akce – uzavřený celý areál po celý den včetně restaurace\, drivingu a cvičných ploch
URL:https://golfbarbora.cz/akce/komercni-akce-uzavreny-cely-areal-po-cely-den-vcetne-restaurace-drivingu-a-cvicnych-ploch-2/
LOCATION:Golf Resort Barbora
CATEGORIES:Komerční akce
END:VEVENT
BEGIN:VEVENT
DTSTART;TZID=UTC:20250903T000000
DTEND;TZID=UTC:20250903T163000
DTSTAMP:20260420T033918
CREATED:20250820T105452Z
LAST-MODIFIED:20250828T090132Z
UID:10095-1756857600-1756917000@golfbarbora.cz
SUMMARY:Komerční akce - uzavřený celý areál po celý den včetně restaurace\, drivingu a cvičných ploch
DESCRIPTION:3. 9. 2025 | Komerční akce – uzavřený celý areál po celý den včetně restaurace\, drivingu a cvičných ploch
URL:https://golfbarbora.cz/akce/komercni-akce-uzavreny-cely-areal-po-cely-den-vcetne-restaurace-drivingu-a-cvicnych-ploch-3/
LOCATION:Golf Resort Barbora
CATEGORIES:Komerční akce
END:VEVENT
BEGIN:VEVENT
DTSTART;VALUE=DATE:20241004
DTEND;VALUE=DATE:20241005
DTSTAMP:20260420T033918
CREATED:20240615T093703Z
LAST-MODIFIED:20240930T075811Z
UID:7398-1728000000-1728086399@golfbarbora.cz
SUMMARY:Komerční akce - uzavřený celý areál po celý den včetně restaurace\, drivingu a cvičných ploch
DESCRIPTION:4. 10. 2024 | Komerční akce – uzavřený celý areál po celý den včetně restaurace\, drivingu a cvičných ploch
URL:https://golfbarbora.cz/akce/komercni-akce-uzavreny-cely-areal-po-cely-den-vcetne-restaurace-drivingu-a-cvicnych-ploch/
LOCATION:Golf Resort Barbora
CATEGORIES:Komerční akce
END:VEVENT
BEGIN:VEVENT
DTSTART;VALUE=DATE:20240906
DTEND;VALUE=DATE:20240907
DTSTAMP:20260420T033918
CREATED:20240615T135157Z
LAST-MODIFIED:20240615T150425Z
UID:7477-1725580800-1725667199@golfbarbora.cz
SUMMARY:Komerční akce - uzavřený celý areál po celý den včetně restaurace\, drivingu a cvičných ploch
DESCRIPTION:6. 9. 2024 | Komerční akce – uzavřený celý areál po celý den včetně restaurace\, drivingu a cvičných ploch
URL:https://golfbarbora.cz/akce/komercni-akce-uzavreny-cely-areal-po-cely-den-vcetne-restaurace-drivingu-a-cvicnych-ploch-5/
LOCATION:Golf Resort Barbora
CATEGORIES:Komerční akce
END:VEVENT
BEGIN:VEVENT
DTSTART;VALUE=DATE:20240903
DTEND;VALUE=DATE:20240904
DTSTAMP:20260420T033918
CREATED:20240615T135246Z
LAST-MODIFIED:20240615T150454Z
UID:7479-1725321600-1725407999@golfbarbora.cz
SUMMARY:Komerční akce - uzavřený celý areál po celý den včetně restaurace\, drivingu a cvičných ploch
DESCRIPTION:3. 9. 2024 | Komerční akce – uzavřený celý areál po celý den včetně restaurace\, drivingu a cvičných ploch
URL:https://golfbarbora.cz/akce/komercni-akce-uzavreny-cely-areal-po-cely-den-vcetne-restaurace-drivingu-a-cvicnych-ploch-6/
LOCATION:Golf Resort Barbora
CATEGORIES:Komerční akce
END:VEVENT
END:VCALENDAR