BEGIN:VCALENDAR
VERSION:2.0
PRODID:-//Golf Resort Barbora - ECPv6.5.1.3//NONSGML v1.0//EN
CALSCALE:GREGORIAN
METHOD:PUBLISH
X-WR-CALNAME:Golf Resort Barbora
X-ORIGINAL-URL:https://golfbarbora.cz/
X-WR-CALDESC:Akce na Golf Resort Barbora
REFRESH-INTERVAL;VALUE=DURATION:PT1H
X-Robots-Tag:noindex
X-PUBLISHED-TTL:PT1H
BEGIN:VTIMEZONE
TZID:UTC
BEGIN:STANDARD
TZOFFSETFROM:+0000
TZOFFSETTO:+0000
TZNAME:UTC
DTSTART:20240101T000000
END:STANDARD
END:VTIMEZONE
BEGIN:VEVENT
DTSTART;TZID=UTC:20260524T100000
DTEND;TZID=UTC:20260524T170000
DTSTAMP:20260419T220747
CREATED:20260305T094138Z
LAST-MODIFIED:20260305T094138Z
UID:10263-1779616800-1779642000@golfbarbora.cz
SUMMARY:Barbora Golf Tour Open 2026/2
DESCRIPTION:27.5.2026| Barbora Golf Tour Open 2026/2
URL:https://golfbarbora.cz/akce/barbora-golf-tour-open-2026-2/
LOCATION:Golf Resort Barbora
CATEGORIES:Barbora Golf Tour Open
END:VEVENT
BEGIN:VEVENT
DTSTART;TZID=UTC:20260503T100000
DTEND;TZID=UTC:20260503T170000
DTSTAMP:20260419T220747
CREATED:20260305T094046Z
LAST-MODIFIED:20260305T094046Z
UID:10261-1777802400-1777827600@golfbarbora.cz
SUMMARY:Barbora Golf Tour Open 2026/1
DESCRIPTION:3.5.2026| Barbora Golf Tour Open 2026/1
URL:https://golfbarbora.cz/akce/barbora-golf-tour-open-2026-1/
LOCATION:Golf Resort Barbora
CATEGORIES:Barbora Golf Tour Open
END:VEVENT
BEGIN:VEVENT
DTSTART;TZID=UTC:20251005T100000
DTEND;TZID=UTC:20251005T163000
DTSTAMP:20260419T220747
CREATED:20250212T095345Z
LAST-MODIFIED:20250826T140043Z
UID:9723-1759658400-1759681800@golfbarbora.cz
SUMMARY:Barbora Golf Tour Open 2025/8 - Fluokov s.r.o. - FINÁLE 2x tolik bodů !!!
DESCRIPTION:5.10.2025 | Barbora Golf Tour Open 2025/8 – Fluokov s.r.o.
URL:https://golfbarbora.cz/akce/barbora-golf-tour-open-2025-7/
LOCATION:Golf Resort Barbora
CATEGORIES:Barbora Golf Tour Open
END:VEVENT
BEGIN:VEVENT
DTSTART;TZID=UTC:20250927T100000
DTEND;TZID=UTC:20250927T170000
DTSTAMP:20260419T220747
CREATED:20250212T095816Z
LAST-MODIFIED:20250915T134636Z
UID:9729-1758967200-1758992400@golfbarbora.cz
SUMMARY:Barbora Golf Tour Open 2025/7 - SECURITAS ČR s.r.o.
DESCRIPTION:27.9.2025 | Barbora Golf Tour Open 2025/7 –  SECURITAS ČR s.r.o.
URL:https://golfbarbora.cz/akce/barbora-golf-tour-open-2025-8-finale-2x-tolik-bodu/
LOCATION:Golf Resort Barbora
CATEGORIES:Barbora Golf Tour Open
END:VEVENT
BEGIN:VEVENT
DTSTART;TZID=UTC:20250824T100000
DTEND;TZID=UTC:20250824T163000
DTSTAMP:20260419T220747
CREATED:20250212T095028Z
LAST-MODIFIED:20250820T111344Z
UID:9717-1756029600-1756053000@golfbarbora.cz
SUMMARY:Barbora Golf Tour Open 2025/6 - COSTA DEL GOLF s losováním o pět letenek do Malagy
DESCRIPTION:24.8.2025 | Barbora Golf Tour Open 2025/6 – COSTA DEL GOLF s losováním o 5 letenek do Malagy
URL:https://golfbarbora.cz/akce/https-www-cgf-cz-cz-turnaje-turnaje-vyhledavani-turnajid1088123844/
LOCATION:Golf Resort Barbora
CATEGORIES:Barbora Golf Tour Open
END:VEVENT
BEGIN:VEVENT
DTSTART;TZID=UTC:20250719T100000
DTEND;TZID=UTC:20250719T163000
DTSTAMP:20260419T220747
CREATED:20250212T094718Z
LAST-MODIFIED:20250702T124142Z
UID:9711-1752919200-1752942600@golfbarbora.cz
SUMMARY:Barbora Golf Tour Open 2025/5 - EFLER s.r.o.
DESCRIPTION:19.7.2025 | Barbora Golf Tour Open 2025/5 – EFLER s.r.o.
URL:https://golfbarbora.cz/akce/barbora-golf-tour-open-2025-5/
LOCATION:Golf Resort Barbora
CATEGORIES:Barbora Golf Tour Open
END:VEVENT
BEGIN:VEVENT
DTSTART;TZID=UTC:20250629T100000
DTEND;TZID=UTC:20250629T130000
DTSTAMP:20260419T220747
CREATED:20250212T093932Z
LAST-MODIFIED:20250627T064203Z
UID:9704-1751191200-1751202000@golfbarbora.cz
SUMMARY:Barbora Golf Tour Open 2025/4 - PH Real a.s.
DESCRIPTION:29.6.2025 | Barbora Golf Tour Open 2025/4 – PH-Real a.s.
URL:https://golfbarbora.cz/akce/barbora-golf-tour-open-2025-4/
LOCATION:Golf Resort Barbora
CATEGORIES:Barbora Golf Tour Open
END:VEVENT
BEGIN:VEVENT
DTSTART;TZID=UTC:20250615T100000
DTEND;TZID=UTC:20250615T170000
DTSTAMP:20260419T220747
CREATED:20250212T093810Z
LAST-MODIFIED:20250212T093810Z
UID:9702-1749981600-1750006800@golfbarbora.cz
SUMMARY:Barbora Golf Tour Open 2025/3 - DanCzek Teplice a.s.
DESCRIPTION:15.6.2025 | Barbora Golf Tour Open 2025/3 – DanCzek Teplice a.s.
URL:https://golfbarbora.cz/akce/barbora-golf-tour-open-2025-3-danczek-teplice-a-s/
LOCATION:Golf Resort Barbora
CATEGORIES:Barbora Golf Tour Open
END:VEVENT
BEGIN:VEVENT
DTSTART;TZID=UTC:20250601T100000
DTEND;TZID=UTC:20250601T170000
DTSTAMP:20260419T220747
CREATED:20250212T091643Z
LAST-MODIFIED:20250505T114335Z
UID:9700-1748772000-1748797200@golfbarbora.cz
SUMMARY:Barbora Golf Tour Open 2025/2 - RONICA s.r.o.
DESCRIPTION:4.5.2025 | Barbora Golf Tour Open 2025/2 – RONICA s.r.o.
URL:https://golfbarbora.cz/akce/barbora-golf-tour-open-2025-2-ronica-s-r-o/
LOCATION:Golf Resort Barbora
CATEGORIES:Barbora Golf Tour Open
END:VEVENT
BEGIN:VEVENT
DTSTART;TZID=UTC:20250503T100000
DTEND;TZID=UTC:20250503T170000
DTSTAMP:20260419T220747
CREATED:20240912T093317Z
LAST-MODIFIED:20250505T114745Z
UID:9510-1746266400-1746291600@golfbarbora.cz
SUMMARY:Barbora Golf Tour Open 2025/1 - Caffé & Dolce s.r.o.
DESCRIPTION:3.5.2025 | Barbora Golf Tour Open 2025/1 – Caffé & Dolce s.r.o.
URL:https://golfbarbora.cz/akce/barbora-golf-tour-open-2025-1/
LOCATION:Golf Resort Barbora
CATEGORIES:Barbora Golf Tour Open
END:VEVENT
BEGIN:VEVENT
DTSTART;TZID=UTC:20250427T100000
DTEND;TZID=UTC:20250427T170000
DTSTAMP:20260419T220747
CREATED:20250224T103833Z
LAST-MODIFIED:20250224T104948Z
UID:9742-1745748000-1745773200@golfbarbora.cz
SUMMARY:Nandávání koleček 2025- texas scramble dvojic
DESCRIPTION:27.4.2025 | Nandávání koleček 2025- texas scramble dvojic
URL:https://golfbarbora.cz/akce/nandavani-kolecek-2025-texas-scramble-dvojic/
LOCATION:Golf Resort Barbora
CATEGORIES:Barbora Golf Tour Open
END:VEVENT
BEGIN:VEVENT
DTSTART;TZID=UTC:20241006T080000
DTEND;TZID=UTC:20241006T170000
DTSTAMP:20260419T220747
CREATED:20240615T134253Z
LAST-MODIFIED:20240615T165822Z
UID:7465-1728201600-1728234000@golfbarbora.cz
SUMMARY:Barbora Golf Tour Open 2024/8 - FINÁLE - 2x tolik bodů !!!
DESCRIPTION:6. 10. 2024 | Barbora Golf Tour Open 2024/8 – FINÁLE – 2x tolik bodů !!!
URL:https://golfbarbora.cz/akce/barbora-golf-tour-open-2024-8-finale-2x-tolik-bodu/
LOCATION:Golf Resort Barbora
CATEGORIES:Barbora Golf Tour Open
END:VEVENT
BEGIN:VEVENT
DTSTART;TZID=UTC:20240915T100000
DTEND;TZID=UTC:20240915T170000
DTSTAMP:20260419T220747
CREATED:20240615T134814Z
LAST-MODIFIED:20240912T102601Z
UID:7473-1726394400-1726419600@golfbarbora.cz
SUMMARY:Barbora GT 2024/7 - EFLER s.r.o. - PŘELOŽENO NA NEDĚLI 22.9.2024
DESCRIPTION:Z důvodu nepříznivé předpovědi počasí je turnaj přeložený na příští neděli 22.9.2024 – cannon start v 10 hodin. \nTěšíme se na vás. \n 
URL:https://golfbarbora.cz/akce/barbora-golf-tour-open-2024-7/
LOCATION:Golf Resort Barbora
CATEGORIES:Barbora Golf Tour Open
END:VEVENT
BEGIN:VEVENT
DTSTART;TZID=UTC:20240901T100000
DTEND;TZID=UTC:20240901T170000
DTSTAMP:20260419T220747
CREATED:20240615T135509Z
LAST-MODIFIED:20240819T105000Z
UID:7482-1725184800-1725210000@golfbarbora.cz
SUMMARY:Barbora Golf Tour Open 2023/6 - FLUOKOV s.r.o.
DESCRIPTION:1. 9. 2024 | Barbora Golf Tour Open 2023/6 – FLUOKOV s.r.o.
URL:https://golfbarbora.cz/akce/barbora-golf-tour-open-2023-6/
LOCATION:Golf Resort Barbora
CATEGORIES:Barbora Golf Tour Open
END:VEVENT
BEGIN:VEVENT
DTSTART;TZID=UTC:20240818T100000
DTEND;TZID=UTC:20240818T170000
DTSTAMP:20260419T220747
CREATED:20240615T135636Z
LAST-MODIFIED:20240724T083446Z
UID:7486-1723975200-1724000400@golfbarbora.cz
SUMMARY:Barbora Golf Tour Open 2024/5 - HEALTHY TWENTY
DESCRIPTION:18. 8. 2024 | Barbora Golf Tour Open 2024/5 – HEALTHY TWENTY
URL:https://golfbarbora.cz/akce/barbora-golf-tour-open-2024-5/
LOCATION:Golf Resort Barbora
CATEGORIES:Barbora Golf Tour Open
END:VEVENT
BEGIN:VEVENT
DTSTART;TZID=UTC:20240721T100000
DTEND;TZID=UTC:20240721T170000
DTSTAMP:20260419T220747
CREATED:20240615T140219Z
LAST-MODIFIED:20240615T170122Z
UID:7494-1721556000-1721581200@golfbarbora.cz
SUMMARY:Barbora Golf Tour Open 2024/4
DESCRIPTION:21. 7. 2024 | Barbora Golf Tour Open 2024/4
URL:https://golfbarbora.cz/akce/barbora-golf-tour-open-2024-4/
LOCATION:Golf Resort Barbora
CATEGORIES:Barbora Golf Tour Open
END:VEVENT
BEGIN:VEVENT
DTSTART;TZID=UTC:20240623T100000
DTEND;TZID=UTC:20240623T170000
DTSTAMP:20260419T220747
CREATED:20240615T144634Z
LAST-MODIFIED:20240615T170412Z
UID:7546-1719136800-1719162000@golfbarbora.cz
SUMMARY:Barbora Golf Tour Open 2024/3
DESCRIPTION:23. 6. 2024 | Barbora Golf Tour Open 2024/3
URL:https://golfbarbora.cz/akce/barbora-golf-tour-open-2024-3/
LOCATION:Golf Resort Barbora
CATEGORIES:Barbora Golf Tour Open
END:VEVENT
END:VCALENDAR