BEGIN:VCALENDAR
VERSION:2.0
PRODID:-//Golf Resort Barbora - ECPv6.5.1.3//NONSGML v1.0//EN
CALSCALE:GREGORIAN
METHOD:PUBLISH
X-WR-CALNAME:Golf Resort Barbora
X-ORIGINAL-URL:https://golfbarbora.cz/
X-WR-CALDESC:Akce na Golf Resort Barbora
REFRESH-INTERVAL;VALUE=DURATION:PT1H
X-Robots-Tag:noindex
X-PUBLISHED-TTL:PT1H
BEGIN:VTIMEZONE
TZID:UTC
BEGIN:STANDARD
TZOFFSETFROM:+0000
TZOFFSETTO:+0000
TZNAME:UTC
DTSTART:20240101T000000
END:STANDARD
END:VTIMEZONE
BEGIN:VEVENT
DTSTART;TZID=UTC:20241010T100000
DTEND;TZID=UTC:20241010T170000
DTSTAMP:20260419T155443
CREATED:20240615T134435Z
LAST-MODIFIED:20241007T064437Z
UID:7467-1728554400-1728579600@golfbarbora.cz
SUMMARY:Podkrušnohorská senior golf tour - cannon start v 10 hodin
DESCRIPTION:10. 10. 2024 | Podkrušnohorská senior tour – cannon start v 10 hodin
URL:https://golfbarbora.cz/akce/podkrusnohorska-senior-tour/
CATEGORIES:Podkrušnohorská senior tour
END:VEVENT
END:VCALENDAR