BEGIN:VCALENDAR
VERSION:2.0
PRODID:-//Golf Resort Barbora - ECPv6.5.1.3//NONSGML v1.0//EN
CALSCALE:GREGORIAN
METHOD:PUBLISH
X-WR-CALNAME:Golf Resort Barbora
X-ORIGINAL-URL:https://golfbarbora.cz/
X-WR-CALDESC:Akce na Golf Resort Barbora
REFRESH-INTERVAL;VALUE=DURATION:PT1H
X-Robots-Tag:noindex
X-PUBLISHED-TTL:PT1H
BEGIN:VTIMEZONE
TZID:UTC
BEGIN:STANDARD
TZOFFSETFROM:+0000
TZOFFSETTO:+0000
TZNAME:UTC
DTSTART:20250101T000000
END:STANDARD
END:VTIMEZONE
BEGIN:VEVENT
DTSTART;TZID=UTC:20251024T120000
DTEND;TZID=UTC:20251024T130000
DTSTAMP:20260419T235151
CREATED:20251015T125804Z
LAST-MODIFIED:20251015T130838Z
UID:10184-1761307200-1761310800@golfbarbora.cz
SUMMARY:MENTOUR odpolední turnaj se starty od 12 do 13 hodin
DESCRIPTION:24.10.2025 | MENTOUR odpolední turnaj se starty od 12 do 13 hodin
URL:https://golfbarbora.cz/akce/mentour-odpoledni-turnaj-se-starty-od-12-do-13-hodin/
LOCATION:Golf Resort Barbora
CATEGORIES:MENTOUR
END:VEVENT
END:VCALENDAR