BEGIN:VCALENDAR
VERSION:2.0
PRODID:-//Golf Resort Barbora - ECPv6.5.1.3//NONSGML v1.0//EN
CALSCALE:GREGORIAN
METHOD:PUBLISH
X-WR-CALNAME:Golf Resort Barbora
X-ORIGINAL-URL:https://golfbarbora.cz/
X-WR-CALDESC:Akce na Golf Resort Barbora
REFRESH-INTERVAL;VALUE=DURATION:PT1H
X-Robots-Tag:noindex
X-PUBLISHED-TTL:PT1H
BEGIN:VTIMEZONE
TZID:UTC
BEGIN:STANDARD
TZOFFSETFROM:+0000
TZOFFSETTO:+0000
TZNAME:UTC
DTSTART:20250101T000000
END:STANDARD
END:VTIMEZONE
BEGIN:VEVENT
DTSTART;TZID=UTC:20251114T110000
DTEND;TZID=UTC:20251114T120000
DTSTAMP:20260420T030515
CREATED:20251015T130444Z
LAST-MODIFIED:20251110T104648Z
UID:10190-1763118000-1763121600@golfbarbora.cz
SUMMARY:MENTOUR odpolední turnaj se starty od 11 do 12 hodin
DESCRIPTION:14.11.2025 | MENTOUR odpolední turnaj se starty od 11 do 12 hodin
URL:https://golfbarbora.cz/akce/mentour-odpoledni-turnaj-se-starty-od-12-do-13-hodin-6/
LOCATION:Golf Resort Barbora
CATEGORIES:MENTOUR
END:VEVENT
END:VCALENDAR