BEGIN:VCALENDAR
VERSION:2.0
PRODID:-//Golf Resort Barbora - ECPv6.5.1.3//NONSGML v1.0//EN
CALSCALE:GREGORIAN
METHOD:PUBLISH
X-WR-CALNAME:Golf Resort Barbora
X-ORIGINAL-URL:https://golfbarbora.cz/
X-WR-CALDESC:Akce na Golf Resort Barbora
REFRESH-INTERVAL;VALUE=DURATION:PT1H
X-Robots-Tag:noindex
X-PUBLISHED-TTL:PT1H
BEGIN:VTIMEZONE
TZID:UTC
BEGIN:STANDARD
TZOFFSETFROM:+0000
TZOFFSETTO:+0000
TZNAME:UTC
DTSTART:20250101T000000
END:STANDARD
END:VTIMEZONE
BEGIN:VEVENT
DTSTART;VALUE=DATE:20250911
DTEND;VALUE=DATE:20250912
DTSTAMP:20260419T222909
CREATED:20250820T111145Z
LAST-MODIFIED:20250826T135754Z
UID:10110-1757548800-1757635199@golfbarbora.cz
SUMMARY:Komerční akce - uzavřený celý areál po celý den včetně restaurace\, drivingu a cvičných ploch
DESCRIPTION:11.9. 2025 | Komerční akce – uzavřený celý areál po celý den včetně restaurace\, drivingu a cvičných ploch
URL:https://golfbarbora.cz/akce/komercni-akce-uzavreny-cely-areal-po-cely-den-vcetne-restaurace-drivingu-a-cvicnych-ploch-7/
LOCATION:Golf Resort Barbora
CATEGORIES:Komerční akce
END:VEVENT
END:VCALENDAR