BEGIN:VCALENDAR
VERSION:2.0
PRODID:-//Golf Resort Barbora - ECPv6.5.1.3//NONSGML v1.0//EN
CALSCALE:GREGORIAN
METHOD:PUBLISH
X-WR-CALNAME:Golf Resort Barbora
X-ORIGINAL-URL:https://golfbarbora.cz/
X-WR-CALDESC:Akce na Golf Resort Barbora
REFRESH-INTERVAL;VALUE=DURATION:PT1H
X-Robots-Tag:noindex
X-PUBLISHED-TTL:PT1H
BEGIN:VTIMEZONE
TZID:UTC
BEGIN:STANDARD
TZOFFSETFROM:+0000
TZOFFSETTO:+0000
TZNAME:UTC
DTSTART:20250101T000000
END:STANDARD
END:VTIMEZONE
BEGIN:VEVENT
DTSTART;TZID=UTC:20250921T100000
DTEND;TZID=UTC:20250921T120000
DTSTAMP:20260419T221352
CREATED:20250808T065957Z
LAST-MODIFIED:20250917T083230Z
UID:10076-1758448800-1758456000@golfbarbora.cz
SUMMARY:Týčko tour 2025 - od 12 hodin je hřiště otevřené pro veřejnost
DESCRIPTION:21.9.2025 |  Týčko tour 2025 se starty od 10 do 12 hodin\, od 12 je hřiště otevřené pro veřejnost
URL:https://golfbarbora.cz/akce/https-www-cgf-cz-cz-turnaje-turnaje-vyhledavani-turnajid1169719000kamos-cup-2025-3/
LOCATION:Golf Resort Barbora
CATEGORIES:turnaj
END:VEVENT
END:VCALENDAR