BEGIN:VCALENDAR
VERSION:2.0
PRODID:-//Golf Resort Barbora - ECPv6.5.1.3//NONSGML v1.0//EN
CALSCALE:GREGORIAN
METHOD:PUBLISH
X-WR-CALNAME:Golf Resort Barbora
X-ORIGINAL-URL:https://golfbarbora.cz/
X-WR-CALDESC:Akce na Golf Resort Barbora
REFRESH-INTERVAL;VALUE=DURATION:PT1H
X-Robots-Tag:noindex
X-PUBLISHED-TTL:PT1H
BEGIN:VTIMEZONE
TZID:UTC
BEGIN:STANDARD
TZOFFSETFROM:+0000
TZOFFSETTO:+0000
TZNAME:UTC
DTSTART:20250101T000000
END:STANDARD
END:VTIMEZONE
BEGIN:VEVENT
DTSTART;TZID=UTC:20250719T100000
DTEND;TZID=UTC:20250719T163000
DTSTAMP:20260419T190726
CREATED:20250212T094718Z
LAST-MODIFIED:20250702T124142Z
UID:9711-1752919200-1752942600@golfbarbora.cz
SUMMARY:Barbora Golf Tour Open 2025/5 - EFLER s.r.o.
DESCRIPTION:19.7.2025 | Barbora Golf Tour Open 2025/5 – EFLER s.r.o.
URL:https://golfbarbora.cz/akce/barbora-golf-tour-open-2025-5/
LOCATION:Golf Resort Barbora
CATEGORIES:Barbora Golf Tour Open
END:VEVENT
END:VCALENDAR